BEGIN:VCALENDAR
VERSION:2.0
PRODID:-//ExponentialHer Global - ECPv6.15.20//NONSGML v1.0//EN
CALSCALE:GREGORIAN
METHOD:PUBLISH
X-WR-CALNAME:ExponentialHer Global
X-ORIGINAL-URL:https://exponentialherglobal.org
X-WR-CALDESC:Events for ExponentialHer Global
REFRESH-INTERVAL;VALUE=DURATION:PT1H
X-Robots-Tag:noindex
X-PUBLISHED-TTL:PT1H
BEGIN:VTIMEZONE
TZID:UTC
BEGIN:STANDARD
TZOFFSETFROM:+0000
TZOFFSETTO:+0000
TZNAME:UTC
DTSTART:20250101T000000
END:STANDARD
END:VTIMEZONE
BEGIN:VTIMEZONE
TZID:America/New_York
BEGIN:DAYLIGHT
TZOFFSETFROM:-0500
TZOFFSETTO:-0400
TZNAME:EDT
DTSTART:20250309T070000
END:DAYLIGHT
BEGIN:STANDARD
TZOFFSETFROM:-0400
TZOFFSETTO:-0500
TZNAME:EST
DTSTART:20251102T060000
END:STANDARD
BEGIN:DAYLIGHT
TZOFFSETFROM:-0500
TZOFFSETTO:-0400
TZNAME:EDT
DTSTART:20260308T070000
END:DAYLIGHT
BEGIN:STANDARD
TZOFFSETFROM:-0400
TZOFFSETTO:-0500
TZNAME:EST
DTSTART:20261101T060000
END:STANDARD
BEGIN:DAYLIGHT
TZOFFSETFROM:-0500
TZOFFSETTO:-0400
TZNAME:EDT
DTSTART:20270314T070000
END:DAYLIGHT
BEGIN:STANDARD
TZOFFSETFROM:-0400
TZOFFSETTO:-0500
TZNAME:EST
DTSTART:20271107T060000
END:STANDARD
END:VTIMEZONE
BEGIN:VEVENT
DTSTART;TZID=UTC:20260413T180000
DTEND;TZID=UTC:20260424T180000
DTSTAMP:20260423T214302
CREATED:20260404T173406Z
LAST-MODIFIED:20260406T205158Z
UID:5626-1776103200-1777053600@exponentialherglobal.org
SUMMARY:The Wealthy Wife Bootcamp
DESCRIPTION:The Wealthy Wife Bootcamp is a transformational 10-day journey designed to help you align your identity\, mindset\, and spiritual understanding with the principles of true wealth. \nThis is more than financial empowerment\, it is about cultivating wisdom\, stewardship\, leadership\, and divine alignment. Through guided teachings\, reflections\, and practical exercises\, you will gain clarity on your purpose\, deepen your understanding of God’s Word\, and develop the capacity to build and sustain lasting wealth. \nplease click on the link below to register 👇👇 \nhttps://forms.gle/nZK15LgUHsysS7pB8
URL:https://exponentialherglobal.org/event/5626/
CATEGORIES:Bootcamps
ATTACH;FMTTYPE=image/png:https://exponentialherglobal.org/wp-content/uploads/2026/04/IMG_8656.png
END:VEVENT
BEGIN:VEVENT
DTSTART;TZID=America/New_York:20260411T210000
DTEND;TZID=America/New_York:20260412T003000
DTSTAMP:20260423T214302
CREATED:20250730T210700Z
LAST-MODIFIED:20260405T081208Z
UID:1488-1775941200-1775953800@exponentialherglobal.org
SUMMARY:Movie Review
DESCRIPTION:The Movie Review session provides an opportunity to reflect on movies that carry meaningful messages\, powerful storytelling\, or valuable life lessons. During the session\, participants discuss themes\, characters\, and key moments that offer deeper insights beyond entertainment. \nThrough open discussion and shared perspectives\, participants explore how the ideas and lessons from the movie can relate to personal growth\, leadership\, relationships\, and everyday decision-making.
URL:https://exponentialherglobal.org/event/movie-review/
LOCATION:The Becker\, 829 Columbus Ave\, San Francisco\, California\, United States
CATEGORIES:Members-Only Events
ATTACH;FMTTYPE=image/jpeg:https://exponentialherglobal.org/wp-content/uploads/2025/07/event-3-3.jpg
END:VEVENT
END:VCALENDAR