BEGIN:VCALENDAR
VERSION:2.0
PRODID:-//ExponentialHer Global - ECPv6.15.20//NONSGML v1.0//EN
CALSCALE:GREGORIAN
METHOD:PUBLISH
X-WR-CALNAME:ExponentialHer Global
X-ORIGINAL-URL:https://exponentialherglobal.org
X-WR-CALDESC:Events for ExponentialHer Global
REFRESH-INTERVAL;VALUE=DURATION:PT1H
X-Robots-Tag:noindex
X-PUBLISHED-TTL:PT1H
BEGIN:VTIMEZONE
TZID:America/New_York
BEGIN:DAYLIGHT
TZOFFSETFROM:-0500
TZOFFSETTO:-0400
TZNAME:EDT
DTSTART:20240310T070000
END:DAYLIGHT
BEGIN:STANDARD
TZOFFSETFROM:-0400
TZOFFSETTO:-0500
TZNAME:EST
DTSTART:20241103T060000
END:STANDARD
BEGIN:DAYLIGHT
TZOFFSETFROM:-0500
TZOFFSETTO:-0400
TZNAME:EDT
DTSTART:20250309T070000
END:DAYLIGHT
BEGIN:STANDARD
TZOFFSETFROM:-0400
TZOFFSETTO:-0500
TZNAME:EST
DTSTART:20251102T060000
END:STANDARD
BEGIN:DAYLIGHT
TZOFFSETFROM:-0500
TZOFFSETTO:-0400
TZNAME:EDT
DTSTART:20260308T070000
END:DAYLIGHT
BEGIN:STANDARD
TZOFFSETFROM:-0400
TZOFFSETTO:-0500
TZNAME:EST
DTSTART:20261101T060000
END:STANDARD
BEGIN:DAYLIGHT
TZOFFSETFROM:-0500
TZOFFSETTO:-0400
TZNAME:EDT
DTSTART:20270314T070000
END:DAYLIGHT
BEGIN:STANDARD
TZOFFSETFROM:-0400
TZOFFSETTO:-0500
TZNAME:EST
DTSTART:20271107T060000
END:STANDARD
BEGIN:DAYLIGHT
TZOFFSETFROM:-0500
TZOFFSETTO:-0400
TZNAME:EDT
DTSTART:20280312T070000
END:DAYLIGHT
BEGIN:STANDARD
TZOFFSETFROM:-0400
TZOFFSETTO:-0500
TZNAME:EST
DTSTART:20281105T060000
END:STANDARD
BEGIN:DAYLIGHT
TZOFFSETFROM:-0500
TZOFFSETTO:-0400
TZNAME:EDT
DTSTART:20290311T070000
END:DAYLIGHT
BEGIN:STANDARD
TZOFFSETFROM:-0400
TZOFFSETTO:-0500
TZNAME:EST
DTSTART:20291104T060000
END:STANDARD
BEGIN:DAYLIGHT
TZOFFSETFROM:-0500
TZOFFSETTO:-0400
TZNAME:EDT
DTSTART:20300310T070000
END:DAYLIGHT
BEGIN:STANDARD
TZOFFSETFROM:-0400
TZOFFSETTO:-0500
TZNAME:EST
DTSTART:20301103T060000
END:STANDARD
END:VTIMEZONE
BEGIN:VEVENT
DTSTART;TZID=America/New_York:20250224T090000
DTEND;TZID=America/New_York:20290224T110000
DTSTAMP:20260425T121839
CREATED:20250730T210659Z
LAST-MODIFIED:20260405T081155Z
UID:1477-1740387600-1866625200@exponentialherglobal.org
SUMMARY:Book Review
DESCRIPTION:The Book Review session is a recurring event where participants come together to explore and discuss insightful books that inspire growth\, learning\, and new perspectives. Each session highlights key ideas\, lessons\, and practical takeaways from selected books across different areas such as personal development\, leadership\, entrepreneurship\, and life principles. \nParticipants are encouraged to share their thoughts\, reflections\, and how the ideas from the book can be applied in everyday life. The goal is to create an engaging space for learning\, meaningful conversations\, and continuous personal improvement.
URL:https://exponentialherglobal.org/event/book-review/
LOCATION:Parisian Room\, 469 Sunset Boulevard\, Beverly Hills\, California\, United States
CATEGORIES:Members-Only Events
ATTACH;FMTTYPE=image/jpeg:https://exponentialherglobal.org/wp-content/uploads/2025/07/event-2-3.jpg
ORGANIZER;CN="ExponentialHer Global":MAILTO:info@exponentialherglobal.org
END:VEVENT
BEGIN:VEVENT
DTSTART;TZID=America/New_York:20290201T043000
DTEND;TZID=America/New_York:20290201T070000
DTSTAMP:20260425T121839
CREATED:20250730T210659Z
LAST-MODIFIED:20260405T080707Z
UID:1478-1864614600-1864623600@exponentialherglobal.org
SUMMARY:Monthly Spotlight
DESCRIPTION:The Monthly Spotlight is a special session dedicated to highlighting inspiring individuals\, ideas\, or achievements within the community. Each spotlight focuses on stories\, experiences\, and journeys that can motivate others and provide valuable lessons for growth and success. \nThis event creates an opportunity to celebrate progress\, encourage excellence\, and learn from real-life experiences. Participants gain inspiration and practical insights that can help them pursue their own goals with greater confidence.
URL:https://exponentialherglobal.org/event/monthly-spotlight/
LOCATION:The Blanda\, 78 42nd St\, New York City\, New York\, United States
CATEGORIES:Members-Only Events
ATTACH;FMTTYPE=image/jpeg:https://exponentialherglobal.org/wp-content/uploads/2025/07/event-17-3.jpg
ORGANIZER;CN="Cecelia Russel":MAILTO:cecelia@russel-qa.evnt.is
END:VEVENT
END:VCALENDAR